BEGIN:VCALENDAR
VERSION:2.0
PRODID:icalendar-ruby
CALSCALE:GREGORIAN
METHOD:PUBLISH
BEGIN:VEVENT
DTSTAMP:20260425T233352Z
UID:109-631343@latrobecma.org
DTSTART:20260925T140000Z
DTEND:20260925T153000Z
CLASS:PUBLIC
CREATED:20260425T180951
DESCRIPTION:
LAST-MODIFIED:20260425T180951
LOCATION:
SUMMARY:Mom's & Kids Play Group
URL;VALUE=URI:https://www.latrobecma.org/events/moms-kids-play-group/2026-0
 9-25
ATTACH;FILENAME=moms-club.jpeg;FMTTYPE=image/jpeg:https://dq5pwpg1q8ru0.clo
 udfront.net/2025/10/07/20/32/18/06fcc368-1fe9-420d-9c21-b0406896217e/moms-
 club.jpeg
END:VEVENT
END:VCALENDAR
