BEGIN:VCALENDAR
VERSION:2.0
PRODID:icalendar-ruby
CALSCALE:GREGORIAN
METHOD:PUBLISH
BEGIN:VEVENT
DTSTAMP:20260426T042630Z
UID:109-631870@latrobecma.org
DTSTART:20261016T140000Z
DTEND:20261016T153000Z
CLASS:PUBLIC
CREATED:20260425T205234
DESCRIPTION:
LAST-MODIFIED:20260425T205234
LOCATION:
SUMMARY:Mom's & Kids Play Group
URL;VALUE=URI:https://www.latrobecma.org/events/moms-kids-play-group/2026-1
 0-16
ATTACH;FILENAME=moms-club.jpeg;FMTTYPE=image/jpeg:https://dq5pwpg1q8ru0.clo
 udfront.net/2025/10/07/20/32/18/06fcc368-1fe9-420d-9c21-b0406896217e/moms-
 club.jpeg
END:VEVENT
END:VCALENDAR
